BEGIN:VCALENDAR
VERSION:2.0
PRODID:icalendar-ruby
CALSCALE:GREGORIAN
METHOD:PUBLISH
BEGIN:VEVENT
DTSTAMP:20260419T154801Z
UID:5-2136294@catedraldel.tithelysetup2.com
DTSTART:20260531T180000Z
DTEND:20260531T190000Z
CLASS:PUBLIC
CREATED:20260413T063550
DESCRIPTION:Sunday Worship
LAST-MODIFIED:20260413T063550
LOCATION:
SUMMARY:Sunday Worship
URL;VALUE=URI:https://catedraldel.tithelysetup2.com/events/sunday-worship/2
 026-05-31
END:VEVENT
END:VCALENDAR
