BEGIN:VCALENDAR
VERSION:2.0
PRODID:icalendar-ruby
CALSCALE:GREGORIAN
METHOD:PUBLISH
BEGIN:VEVENT
DTSTAMP:20260422T122406Z
UID:5-2136309@catedraldel.tithelysetup2.com
DTSTART:20260913T180000Z
DTEND:20260913T190000Z
CLASS:PUBLIC
CREATED:20260413T063550
DESCRIPTION:Sunday Worship
LAST-MODIFIED:20260413T063550
LOCATION:
SUMMARY:Sunday Worship
URL;VALUE=URI:https://catedraldel.tithelysetup2.com/events/sunday-worship/2
 026-09-13
END:VEVENT
END:VCALENDAR
