BEGIN:VCALENDAR
VERSION:2.0
PRODID:icalendar-ruby
CALSCALE:GREGORIAN
METHOD:PUBLISH
BEGIN:VEVENT
DTSTAMP:20260422T231507Z
UID:5-2136315@catedraldel.tithelysetup2.com
DTSTART:20261025T180000Z
DTEND:20261025T190000Z
CLASS:PUBLIC
CREATED:20260413T063550
DESCRIPTION:Sunday Worship
LAST-MODIFIED:20260413T063550
LOCATION:
SUMMARY:Sunday Worship
URL;VALUE=URI:https://catedraldel.tithelysetup2.com/events/sunday-worship/2
 026-10-25
END:VEVENT
END:VCALENDAR
